BEGIN:VCALENDAR
VERSION:2.0
PRODID:-//ChamberMaster//Event Calendar 2.0//EN
METHOD:PUBLISH
X-PUBLISHED-TTL:P3D
REFRESH-INTERVAL:P3D
CALSCALE:GREGORIAN
BEGIN:VEVENT
DTSTART:20260604T210000Z
DTEND:20260604T220000Z
X-MICROSOFT-CDO-ALLDAYEVENT:FALSE
SUMMARY:Hudson Harmonic Ribbon Cutting
DESCRIPTION:
X-ALT-DESC;FMTTYPE=text/html:
LOCATION:21 N 6th Street\, Hudson\, NY 12534
UID:e.2656.8418
SEQUENCE:3
DTSTAMP:20260421T173335Z
URL:https://business.columbiachamber-ny.com/events/details/hudson-harmonic-ribbon-cutting-8418
END:VEVENT

END:VCALENDAR
