BEGIN:VCALENDAR
VERSION:2.0
PRODID:-//ChamberMaster//Event Calendar 2.0//EN
METHOD:PUBLISH
X-PUBLISHED-TTL:P3D
REFRESH-INTERVAL:P3D
CALSCALE:GREGORIAN
BEGIN:VEVENT
DTSTART:20260430T210000Z
DTEND:20260430T220000Z
X-MICROSOFT-CDO-ALLDAYEVENT:FALSE
SUMMARY:Ever After Consignment - Ribbon Cutting
DESCRIPTION:The Chamber is celebrating Ever After Consignment with a Ribbon Cutting.
X-ALT-DESC;FMTTYPE=text/html:The Chamber is celebrating Ever After Consignment with a Ribbon Cutting.
LOCATION:Columbia County Fairgrounds in Chatham\, NY
UID:e.2656.8419
SEQUENCE:3
DTSTAMP:20260421T105710Z
URL:https://business.columbiachamber-ny.com/events/details/ever-after-consignment-ribbon-cutting-8419
END:VEVENT

END:VCALENDAR
