BEGIN:VCALENDAR
VERSION:2.0
PRODID:-//ChamberMaster//Event Calendar 2.0//EN
METHOD:PUBLISH
X-PUBLISHED-TTL:P3D
REFRESH-INTERVAL:P3D
CALSCALE:GREGORIAN
BEGIN:VEVENT
DTSTART:20260425T190000Z
DTEND:20260426T020000Z
X-MICROSOFT-CDO-ALLDAYEVENT:FALSE
SUMMARY:Back to the 80's
DESCRIPTION:Throw it Back to the 80's with us at The Tin Barn! \n\n\n\nGet ready for a totally rad night of 80's hits with DJ Bump spinning the classics! \n\n\n\n  Saturday\, April 25th\n\n1783 Route 9\, Clermont NY\n\n  Doors Open EARLY at 3PM\n\n  $10 Entry Fee begins at 5PM\n\n  DJ Bump starts at 6PM\n\n  Food Truck TBA\n\nDig into those closets for that 80's garb   prize for best dressed!\n\n\n\nSo bring your friends and your best dance moves   we will see you on the dance floor!
X-ALT-DESC;FMTTYPE=text/html:<span style="background-color:rgb(255\, 255\, 255)\; color:rgb(12\, 16\, 20)\; font-family:-apple-system\,blinkmacsystemfont\,segoe ui\,roboto\,helvetica\,arial\,sans-serif\; font-size:14px">Throw it Back to the 80&rsquo\;s with us at The Tin Barn!&nbsp\;</span><br />\n<br />\n<span style="background-color:rgb(255\, 255\, 255)\; color:rgb(12\, 16\, 20)\; font-family:-apple-system\,blinkmacsystemfont\,segoe ui\,roboto\,helvetica\,arial\,sans-serif\; font-size:14px">Get ready for a totally rad night of 80&rsquo\;s hits with DJ Bump spinning the classics!&nbsp\;</span><br />\n<br />\n<span style="background-color:rgb(255\, 255\, 255)\; color:rgb(12\, 16\, 20)\; font-family:-apple-system\,blinkmacsystemfont\,segoe ui\,roboto\,helvetica\,arial\,sans-serif\; font-size:14px">&bull\; Saturday\, April 25th</span><br />\n<span style="background-color:rgb(255\, 255\, 255)\; color:rgb(12\, 16\, 20)\; font-family:-apple-system\,blinkmacsystemfont\,segoe ui\,roboto\,helvetica\,arial\,sans-serif\; font-size:14px">1783 Route 9\, Clermont NY</span><br />\n<span style="background-color:rgb(255\, 255\, 255)\; color:rgb(12\, 16\, 20)\; font-family:-apple-system\,blinkmacsystemfont\,segoe ui\,roboto\,helvetica\,arial\,sans-serif\; font-size:14px">&bull\; Doors Open EARLY at 3PM</span><br />\n<span style="background-color:rgb(255\, 255\, 255)\; color:rgb(12\, 16\, 20)\; font-family:-apple-system\,blinkmacsystemfont\,segoe ui\,roboto\,helvetica\,arial\,sans-serif\; font-size:14px">&bull\; $10 Entry Fee begins at 5PM</span><br />\n<span style="background-color:rgb(255\, 255\, 255)\; color:rgb(12\, 16\, 20)\; font-family:-apple-system\,blinkmacsystemfont\,segoe ui\,roboto\,helvetica\,arial\,sans-serif\; font-size:14px">&bull\; DJ Bump starts at 6PM</span><br />\n<span style="background-color:rgb(255\, 255\, 255)\; color:rgb(12\, 16\, 20)\; font-family:-apple-system\,blinkmacsystemfont\,segoe ui\,roboto\,helvetica\,arial\,sans-serif\; font-size:14px">&bull\; Food Truck TBA</span><br />\n<span style="background-color:rgb(255\, 255\, 255)\; color:rgb(12\, 16\, 20)\; font-family:-apple-system\,blinkmacsystemfont\,segoe ui\,roboto\,helvetica\,arial\,sans-serif\; font-size:14px">Dig into those closets for that 80&rsquo\;s garb &mdash\; prize for best dressed!</span><br />\n<br />\n<span style="background-color:rgb(255\, 255\, 255)\; color:rgb(12\, 16\, 20)\; font-family:-apple-system\,blinkmacsystemfont\,segoe ui\,roboto\,helvetica\,arial\,sans-serif\; font-size:14px">So bring your friends and your best dance moves &mdash\; we will see you on the dance floor!&nbsp\;</span>
LOCATION:The Tin Barn\, 1783 Route 9\, Clermont\, NY 12526
UID:e.2656.8420
SEQUENCE:3
DTSTAMP:20260423T083119Z
URL:https://business.columbiachamber-ny.com/events/details/back-to-the-80-s-8420
END:VEVENT

END:VCALENDAR
